BEGIN:VCALENDAR
PRODID:-//zoom.us//iCalendar Event//EN
VERSION:2.0
CALSCALE:GREGORIAN
METHOD:PUBLISH
CLASS:PUBLIC
BEGIN:VTIMEZONE
TZID:Europe/London
LAST-MODIFIED:20260306T231828Z
TZURL:https://www.tzurl.org/zoneinfo-outlook/Europe/London
X-LIC-LOCATION:Europe/London
BEGIN:DAYLIGHT
TZNAME:BST
TZOFFSETFROM:+0000
TZOFFSETTO:+0100
DTSTART:19700329T010000
RRULE:FREQ=YEARLY;BYMONTH=3;BYDAY=-1SU
END:DAYLIGHT
BEGIN:STANDARD
TZNAME:GMT
TZOFFSETFROM:+0100
TZOFFSETTO:+0000
DTSTART:19701025T020000
RRULE:FREQ=YEARLY;BYMONTH=10;BYDAY=-1SU
END:STANDARD
END:VTIMEZONE
BEGIN:VEVENT
DTSTAMP:20260420T162603Z
DTSTART;TZID=Europe/London:20260525T060000
DTEND;TZID=Europe/London:20260525T070000
SUMMARY:A 10-year scoping review: an inspirational or cautionary tale?
UID:20260420T162603Z-88978396186@web-prod-us02-va1-webok-dfb8885c8-h96tc
TZID:Europe/London
DESCRIPTION:Health Economics is inviting you to a scheduled Zoom meeting.
 \nJoin Zoom Meeting\nhttps://us02web.zoom.us/j/88978396186?pwd=hQOCWHZaJ
 5NJVtaCx3Tciap80GosfX.1\n\nMeeting ID: 889 7839 6186\nPasscode: 141184\n
 \n---\n\nOne tap mobile\n+17806660144\,\,88978396186#\,\,\,\,*141184# Ca
 nada\n+12042727920\,\,88978396186#\,\,\,\,*141184# Canada\n\n\n---\n\nJo
 in by SIP\n• 88978396186@zoomcrc.com\n\nJoin instructions\nhttps://us02w
 eb.zoom.us/meetings/88978396186/invitations?signature=2inKsmZKEN6fOKoB-s
 pmKdIL88SE4iuchTnaKpMWDEQ\n\n
LOCATION:https://us02web.zoom.us/j/88978396186?pwd=hQOCWHZaJ5NJVtaCx3Tcia
 p80GosfX.1
BEGIN:VALARM
TRIGGER:-PT10M
ACTION:DISPLAY
DESCRIPTION:Reminder
END:VALARM
END:VEVENT
END:VCALENDAR
