BEGIN:VCALENDAR
PRODID:-//zoom.us//iCalendar Event//EN
VERSION:2.0
CALSCALE:GREGORIAN
METHOD:PUBLISH
CLASS:PUBLIC
BEGIN:VTIMEZONE
TZID:Europe/London
LAST-MODIFIED:20260306T231828Z
TZURL:https://www.tzurl.org/zoneinfo-outlook/Europe/London
X-LIC-LOCATION:Europe/London
BEGIN:DAYLIGHT
TZNAME:BST
TZOFFSETFROM:+0000
TZOFFSETTO:+0100
DTSTART:19700329T010000
RRULE:FREQ=YEARLY;BYMONTH=3;BYDAY=-1SU
END:DAYLIGHT
BEGIN:STANDARD
TZNAME:GMT
TZOFFSETFROM:+0100
TZOFFSETTO:+0000
DTSTART:19701025T020000
RRULE:FREQ=YEARLY;BYMONTH=10;BYDAY=-1SU
END:STANDARD
END:VTIMEZONE
BEGIN:VEVENT
DTSTAMP:20260423T162059Z
DTSTART;TZID=Europe/London:20260504T163000
DTEND;TZID=Europe/London:20260504T173000
SUMMARY:Do GLP-1 Medications Pay for Themselves?
UID:20260423T162059Z-86256170997@web-prod-us02-oh1-webok-6cf768f97b-sxlsw
 
TZID:Europe/London
DESCRIPTION:Health Economics is inviting you to a scheduled Zoom meeting.
 \nJoin Zoom Meeting\nhttps://us02web.zoom.us/j/86256170997?pwd=IHVnFCKW6
 KJ79GoblNa5Sv3nFrf3Ml.1\n\nMeeting ID: 862 5617 0997\nPasscode: 177355\n
 \n---\n\nOne tap mobile\n+16475580588\,\,86256170997#\,\,\,\,*177355# Ca
 nada\n+17789072071\,\,86256170997#\,\,\,\,*177355# Canada\n\n\n---\n\nJo
 in by SIP\n• 86256170997@zoomcrc.com\n\nJoin instructions\nhttps://us02w
 eb.zoom.us/meetings/86256170997/invitations?signature=ALjBwT_WdqzNfo-8WJ
 Z5CTVrjDkYUHayFsfh_0i5ZmU\n\n
LOCATION:https://us02web.zoom.us/j/86256170997?pwd=IHVnFCKW6KJ79GoblNa5Sv
 3nFrf3Ml.1
BEGIN:VALARM
TRIGGER:-PT10M
ACTION:DISPLAY
DESCRIPTION:Reminder
END:VALARM
END:VEVENT
END:VCALENDAR
